BEGIN:VCALENDAR
VERSION:2.0
PRODID:-//Vechtetalschule Nordhorn - ECPv6.8.2//NONSGML v1.0//EN
CALSCALE:GREGORIAN
METHOD:PUBLISH
X-WR-CALNAME:Vechtetalschule Nordhorn
X-ORIGINAL-URL:https://vechtetalschule.de
X-WR-CALDESC:Veranstaltungen für Vechtetalschule Nordhorn
REFRESH-INTERVAL;VALUE=DURATION:PT1H
X-Robots-Tag:noindex
X-PUBLISHED-TTL:PT1H
BEGIN:VTIMEZONE
TZID:Europe/Berlin
BEGIN:DAYLIGHT
TZOFFSETFROM:+0100
TZOFFSETTO:+0200
TZNAME:CEST
DTSTART:20260329T010000
END:DAYLIGHT
BEGIN:STANDARD
TZOFFSETFROM:+0200
TZOFFSETTO:+0100
TZNAME:CET
DTSTART:20261025T010000
END:STANDARD
END:VTIMEZONE
BEGIN:VEVENT
DTSTART;TZID=Europe/Berlin:20260602T080000
DTEND;TZID=Europe/Berlin:20260602T140000
DTSTAMP:20260421T125433
CREATED:20260211T193111Z
LAST-MODIFIED:20260211T193111Z
UID:1741-1780387200-1780408800@vechtetalschule.de
SUMMARY:Sport- und Spielefest
DESCRIPTION:
URL:https://vechtetalschule.de/kalender/sport-und-spielefest-2/
END:VEVENT
BEGIN:VEVENT
DTSTART;TZID=Europe/Berlin:20260608T080000
DTEND;TZID=Europe/Berlin:20260612T170000
DTSTAMP:20260421T125433
CREATED:20260211T193212Z
LAST-MODIFIED:20260211T193212Z
UID:1743-1780905600-1781283600@vechtetalschule.de
SUMMARY:ADAC- Tunier
DESCRIPTION:Wir wünschen allen Teilnehmenden viel Erfolg!
URL:https://vechtetalschule.de/kalender/adac-tunier/
END:VEVENT
BEGIN:VEVENT
DTSTART;VALUE=DATE:20260622
DTEND;VALUE=DATE:20260623
DTSTAMP:20260421T125433
CREATED:20260211T193304Z
LAST-MODIFIED:20260211T193304Z
UID:1745-1782086400-1782172799@vechtetalschule.de
SUMMARY:Elternabend neue 1.Klassen
DESCRIPTION:
URL:https://vechtetalschule.de/kalender/elternabend-neue-1-klassen/
END:VEVENT
BEGIN:VEVENT
DTSTART;TZID=Europe/Berlin:20260625T080000
DTEND;TZID=Europe/Berlin:20260625T170000
DTSTAMP:20260421T125433
CREATED:20260211T193501Z
LAST-MODIFIED:20260211T193501Z
UID:1747-1782374400-1782406800@vechtetalschule.de
SUMMARY:Entlassfeier
DESCRIPTION:Wir wünschen allen Schülerinnen und Schüler der 12. Klassen alles Gute für ihre Zukunft und weiteren Lebensweg 🙂
URL:https://vechtetalschule.de/kalender/entlassfeier-2/
END:VEVENT
BEGIN:VEVENT
DTSTART;TZID=Europe/Berlin:20260630T080000
DTEND;TZID=Europe/Berlin:20260630T140000
DTSTAMP:20260421T125433
CREATED:20260211T193533Z
LAST-MODIFIED:20260211T193533Z
UID:1749-1782806400-1782828000@vechtetalschule.de
SUMMARY:Putztag
DESCRIPTION:
URL:https://vechtetalschule.de/kalender/putztag-3/
END:VEVENT
END:VCALENDAR