BEGIN:VCALENDAR
VERSION:2.0
PRODID:-//Vechtetalschule Nordhorn - ECPv6.8.2//NONSGML v1.0//EN
CALSCALE:GREGORIAN
METHOD:PUBLISH
X-WR-CALNAME:Vechtetalschule Nordhorn
X-ORIGINAL-URL:https://vechtetalschule.de
X-WR-CALDESC:Veranstaltungen für Vechtetalschule Nordhorn
REFRESH-INTERVAL;VALUE=DURATION:PT1H
X-Robots-Tag:noindex
X-PUBLISHED-TTL:PT1H
BEGIN:VTIMEZONE
TZID:Europe/Berlin
BEGIN:DAYLIGHT
TZOFFSETFROM:+0100
TZOFFSETTO:+0200
TZNAME:CEST
DTSTART:20250330T010000
END:DAYLIGHT
BEGIN:STANDARD
TZOFFSETFROM:+0200
TZOFFSETTO:+0100
TZNAME:CET
DTSTART:20251026T010000
END:STANDARD
END:VTIMEZONE
BEGIN:VEVENT
DTSTART;VALUE=DATE:20251124
DTEND;VALUE=DATE:20251125
DTSTAMP:20260422T124147
CREATED:20250808T095433Z
LAST-MODIFIED:20250808T095433Z
UID:1572-1763942400-1764028799@vechtetalschule.de
SUMMARY:Schulvorstand
DESCRIPTION:
URL:https://vechtetalschule.de/kalender/schulvorstand/
END:VEVENT
END:VCALENDAR