BEGIN:VCALENDAR
VERSION:2.0
PRODID:-//Vechtetalschule Nordhorn - ECPv6.8.2//NONSGML v1.0//EN
CALSCALE:GREGORIAN
METHOD:PUBLISH
X-ORIGINAL-URL:https://vechtetalschule.de
X-WR-CALDESC:Veranstaltungen für Vechtetalschule Nordhorn
REFRESH-INTERVAL;VALUE=DURATION:PT1H
X-Robots-Tag:noindex
X-PUBLISHED-TTL:PT1H
BEGIN:VTIMEZONE
TZID:Europe/Berlin
BEGIN:DAYLIGHT
TZOFFSETFROM:+0100
TZOFFSETTO:+0200
TZNAME:CEST
DTSTART:20250330T010000
END:DAYLIGHT
BEGIN:STANDARD
TZOFFSETFROM:+0200
TZOFFSETTO:+0100
TZNAME:CET
DTSTART:20251026T010000
END:STANDARD
END:VTIMEZONE
BEGIN:VEVENT
DTSTART;VALUE=DATE:20250430
DTEND;VALUE=DATE:20250503
DTSTAMP:20260421T113759
CREATED:20250126T164947Z
LAST-MODIFIED:20250126T164947Z
UID:1253-1745971200-1746230399@vechtetalschule.de
SUMMARY:1.Mai Brückentage
DESCRIPTION:Wir wünschen allen eine entspannte kurze Auszeit und einen schönen ersten Mai.💐🚲
URL:https://vechtetalschule.de/kalender/1-mai-brueckentage/
END:VEVENT
BEGIN:VEVENT
DTSTART;VALUE=DATE:20250527
DTEND;VALUE=DATE:20250528
DTSTAMP:20260421T113759
CREATED:20250126T163323Z
LAST-MODIFIED:20250126T163323Z
UID:1251-1748304000-1748390399@vechtetalschule.de
SUMMARY:Fußballcamp
DESCRIPTION:Durch die Niedersächsische Lotto-Sport-Stiftung ist es wieder möglich\, dass erneut ein Fußballcamp stattfindet. ⚽ Interessierte Schülerinnen und Schüler dürfen über die gesamte Unterrichtszeit auf dem VfL Weiße Elf Fußballplatz Fußball spielen. Wir sind gespannt\, welche professionellen Fußballtrainer uns diese Jahr erwarten. 🥅
URL:https://vechtetalschule.de/kalender/fussballcamp/
END:VEVENT
BEGIN:VEVENT
DTSTART;VALUE=DATE:20250529
DTEND;VALUE=DATE:20250531
DTSTAMP:20260421T113759
CREATED:20250126T170356Z
LAST-MODIFIED:20250126T170356Z
UID:1257-1748476800-1748649599@vechtetalschule.de
SUMMARY:Christi-Himmelfahrt
DESCRIPTION:Vom 29.5.2025-30.5.2025 sind Christi-Himmelfahrtsferien. Wir wünschen allen ein schönes verlängertes Wochenende!☀️
URL:https://vechtetalschule.de/kalender/christi-himmelfahrt/
END:VEVENT
END:VCALENDAR