BEGIN:VCALENDAR
VERSION:2.0
PRODID:-//Vechtetalschule Nordhorn - ECPv6.8.2//NONSGML v1.0//EN
CALSCALE:GREGORIAN
METHOD:PUBLISH
X-ORIGINAL-URL:https://vechtetalschule.de
X-WR-CALDESC:Veranstaltungen für Vechtetalschule Nordhorn
REFRESH-INTERVAL;VALUE=DURATION:PT1H
X-Robots-Tag:noindex
X-PUBLISHED-TTL:PT1H
BEGIN:VTIMEZONE
TZID:Europe/Berlin
BEGIN:DAYLIGHT
TZOFFSETFROM:+0100
TZOFFSETTO:+0200
TZNAME:CEST
DTSTART:20260329T010000
END:DAYLIGHT
BEGIN:STANDARD
TZOFFSETFROM:+0200
TZOFFSETTO:+0100
TZNAME:CET
DTSTART:20261025T010000
END:STANDARD
END:VTIMEZONE
BEGIN:VEVENT
DTSTART;VALUE=DATE:20260529
DTEND;VALUE=DATE:20260530
DTSTAMP:20260421T124511
CREATED:20260211T193023Z
LAST-MODIFIED:20260211T193023Z
UID:1739-1780012800-1780099199@vechtetalschule.de
SUMMARY:Schülerdisco
DESCRIPTION:
URL:https://vechtetalschule.de/kalender/schuelerdisco/
END:VEVENT
END:VCALENDAR