BEGIN:VCALENDAR
VERSION:2.0
PRODID:-//Vechtetalschule Nordhorn - ECPv6.8.2//NONSGML v1.0//EN
CALSCALE:GREGORIAN
METHOD:PUBLISH
X-ORIGINAL-URL:https://vechtetalschule.de
X-WR-CALDESC:Veranstaltungen für Vechtetalschule Nordhorn
REFRESH-INTERVAL;VALUE=DURATION:PT1H
X-Robots-Tag:noindex
X-PUBLISHED-TTL:PT1H
BEGIN:VTIMEZONE
TZID:Europe/Berlin
BEGIN:DAYLIGHT
TZOFFSETFROM:+0100
TZOFFSETTO:+0200
TZNAME:CEST
DTSTART:20250330T010000
END:DAYLIGHT
BEGIN:STANDARD
TZOFFSETFROM:+0200
TZOFFSETTO:+0100
TZNAME:CET
DTSTART:20251026T010000
END:STANDARD
END:VTIMEZONE
BEGIN:VEVENT
DTSTART;VALUE=DATE:20250623
DTEND;VALUE=DATE:20250624
DTSTAMP:20260423T122052
CREATED:20250126T175428Z
LAST-MODIFIED:20250126T175428Z
UID:1268-1750636800-1750723199@vechtetalschule.de
SUMMARY:Elternabend für die neuen 1.Klassen
DESCRIPTION:
URL:https://vechtetalschule.de/kalender/elternabend-fuer-die-neuen-1-klassen/
END:VEVENT
END:VCALENDAR